BEGIN:VCALENDAR
VERSION:2.0
PRODID:-//dsafnebraska.org//NONSGML kigkonsult.se iCalcreator 2.30.10//
CALSCALE:GREGORIAN
METHOD:PUBLISH
UID:1273cfbc-8597-462b-9abf-dadc840eab97
X-WR-CALDESC:Join DSAF for a Meet -Up in York\, NE. Mincks Park is home to 
 the Peyton Parker Lane Playground. This inclusive playground is fully fenc
 ed and is accessible to all abilities. DSAF will provide popsicles and wat
 er. Come play and meet some other DSAF families.
X-WR-RELCALID:84b134f201b24d467b083d22653123e9
X-WR-TIMEZONE:America/Chicago
BEGIN:VTIMEZONE
TZID:America/Chicago
BEGIN:STANDARD
TZNAME:CST
DTSTART:20251102T020000
TZOFFSETFROM:-0500
TZOFFSETTO:-0600
RDATE:20261101T020000
RDATE:20271107T020000
END:STANDARD
BEGIN:DAYLIGHT
TZNAME:CDT
DTSTART:20260308T020000
TZOFFSETFROM:-0600
TZOFFSETTO:-0500
RDATE:20270314T020000
END:DAYLIGHT
END:VTIMEZONE
BEGIN:VEVENT
UID:4283125d-8db7-498e-8409-69d9d4abc8cf
DTSTAMP:20260421T205521Z
DESCRIPTION:Join DSAF for a Meet -Up in York\, NE. Mincks Park is home to t
 he Peyton Parker Lane Playground. This inclusive playground is fully fence
 d and is accessible to all abilities. DSAF will provide popsicles and wate
 r. Come play and meet some other DSAF families.
DTSTART;TZID=America/Chicago:20260612T183000
DTEND;TZID=America/Chicago:20260612T200000
LOCATION:2222 E 14th St\, York\, NE 68467 US
SUMMARY:Popsicles in the Park - York\, NE
END:VEVENT
END:VCALENDAR
